BEGIN:VCALENDAR
VERSION:2.0
PRODID:-//Noosa Landcare - ECPv6.15.20//NONSGML v1.0//EN
CALSCALE:GREGORIAN
METHOD:PUBLISH
X-WR-CALNAME:Noosa Landcare
X-ORIGINAL-URL:https://noosalandcare.org
X-WR-CALDESC:Events for Noosa Landcare
REFRESH-INTERVAL;VALUE=DURATION:PT1H
X-Robots-Tag:noindex
X-PUBLISHED-TTL:PT1H
BEGIN:VTIMEZONE
TZID:Australia/Brisbane
BEGIN:STANDARD
TZOFFSETFROM:+1000
TZOFFSETTO:+1000
TZNAME:AEST
DTSTART:20250101T000000
END:STANDARD
END:VTIMEZONE
BEGIN:VEVENT
DTSTART;TZID=Australia/Brisbane:20260116T083000
DTEND;TZID=Australia/Brisbane:20260116T113000
DTSTAMP:20260421T040620
CREATED:20251120T051710Z
LAST-MODIFIED:20260116T020850Z
UID:6397-1768552200-1768563000@noosalandcare.org
SUMMARY:Roving Restorers working bee - Ridgewood
DESCRIPTION:
URL:https://noosalandcare.org/event/working-bee-160125/
LOCATION:Ridgewood
CATEGORIES:Botany,Habitat restoration,Land Restoration,Noosa Landcare Program,Restoration,Roving Restorers Program,Working bee
ORGANIZER;CN="Noosa and District Landcare":MAILTO:office@noosalandcare.org
END:VEVENT
BEGIN:VEVENT
DTSTART;TZID=Australia/Brisbane:20260130T083000
DTEND;TZID=Australia/Brisbane:20260130T113000
DTSTAMP:20260421T040620
CREATED:20260116T004050Z
LAST-MODIFIED:20260116T021137Z
UID:9331-1769761800-1769772600@noosalandcare.org
SUMMARY:Roving Restorers working bee - Marcus Beach
DESCRIPTION:
URL:https://noosalandcare.org/event/working-bee-300126/
LOCATION:Marcus Beach
CATEGORIES:Community,Habitat restoration,Land Restoration,Local projects,Noosa Landcare Program,Roving Restorers Program,Working bee
ORGANIZER;CN="Noosa and District Landcare":MAILTO:office@noosalandcare.org
END:VEVENT
END:VCALENDAR