BEGIN:VCALENDAR
VERSION:2.0
PRODID:-//Noosa Landcare - ECPv6.15.20//NONSGML v1.0//EN
CALSCALE:GREGORIAN
METHOD:PUBLISH
X-WR-CALNAME:Noosa Landcare
X-ORIGINAL-URL:https://noosalandcare.org
X-WR-CALDESC:Events for Noosa Landcare
REFRESH-INTERVAL;VALUE=DURATION:PT1H
X-Robots-Tag:noindex
X-PUBLISHED-TTL:PT1H
BEGIN:VTIMEZONE
TZID:Australia/Brisbane
BEGIN:STANDARD
TZOFFSETFROM:+1000
TZOFFSETTO:+1000
TZNAME:AEST
DTSTART:20230101T000000
END:STANDARD
END:VTIMEZONE
BEGIN:VEVENT
DTSTART;TZID=Australia/Brisbane:20240712T083000
DTEND;TZID=Australia/Brisbane:20240712T233000
DTSTAMP:20260422T023129
CREATED:20240503T030837Z
LAST-MODIFIED:20240503T032808Z
UID:4362-1720773000-1720827000@noosalandcare.org
SUMMARY:Roving Restorers - Noosa Chapter - Working Bee
DESCRIPTION:
URL:https://noosalandcare.org/event/workingbee-12-07-24/
LOCATION:Kin Kin
END:VEVENT
BEGIN:VEVENT
DTSTART;TZID=Australia/Brisbane:20240713T090000
DTEND;TZID=Australia/Brisbane:20240713T140000
DTSTAMP:20260422T023129
CREATED:20240104T020653Z
LAST-MODIFIED:20240711T024949Z
UID:3715-1720861200-1720879200@noosalandcare.org
SUMMARY:**BOOKED OUT** Rainforest I.D. with Marc Russell and Phil Moran
DESCRIPTION:
URL:https://noosalandcare.org/event/rainforestid/
LOCATION:Rural Futures Centre\, Pomona\, 65 Pavilion Street\, Pomona
END:VEVENT
BEGIN:VEVENT
DTSTART;TZID=Australia/Brisbane:20240718T170000
DTEND;TZID=Australia/Brisbane:20240718T190000
DTSTAMP:20260422T023129
CREATED:20240509T033853Z
LAST-MODIFIED:20240703T224520Z
UID:4421-1721322000-1721329200@noosalandcare.org
SUMMARY:Landcare Linkup: Exploring Wallum Wildflowers
DESCRIPTION:
URL:https://noosalandcare.org/event/landcare-linkup-event-topic-to-be-released/
LOCATION:Rural Futures Centre\, Pomona\, 65 Pavilion Street\, Pomona
END:VEVENT
BEGIN:VEVENT
DTSTART;TZID=Australia/Brisbane:20240720T090000
DTEND;TZID=Australia/Brisbane:20240720T110000
DTSTAMP:20260422T023129
CREATED:20240717T230540Z
LAST-MODIFIED:20240718T010122Z
UID:4800-1721466000-1721473200@noosalandcare.org
SUMMARY:Native Garden Clinic
DESCRIPTION:
URL:https://noosalandcare.org/event/native-garden-clinic-2024/
LOCATION:The Hinter Hub Store\, 6 Station Street\, Pomona\, QLD\, 4568\, Australia
CATEGORIES:Community,Garden Clinic,Garden design,Land for Wildlife,Native gardening,Native plant identification
END:VEVENT
END:VCALENDAR