BEGIN:VCALENDAR
VERSION:2.0
PRODID:-//Noosa Landcare - ECPv6.15.20//NONSGML v1.0//EN
CALSCALE:GREGORIAN
METHOD:PUBLISH
X-WR-CALNAME:Noosa Landcare
X-ORIGINAL-URL:https://noosalandcare.org
X-WR-CALDESC:Events for Noosa Landcare
REFRESH-INTERVAL;VALUE=DURATION:PT1H
X-Robots-Tag:noindex
X-PUBLISHED-TTL:PT1H
BEGIN:VTIMEZONE
TZID:Australia/Brisbane
BEGIN:STANDARD
TZOFFSETFROM:+1000
TZOFFSETTO:+1000
TZNAME:AEST
DTSTART:20230101T000000
END:STANDARD
END:VTIMEZONE
BEGIN:VEVENT
DTSTART;TZID=Australia/Brisbane:20240614T083000
DTEND;TZID=Australia/Brisbane:20240614T113000
DTSTAMP:20260422T033616
CREATED:20240503T030442Z
LAST-MODIFIED:20240503T030526Z
UID:4354-1718353800-1718364600@noosalandcare.org
SUMMARY:Roving Restorers - Noosa Chapter - Working bee
DESCRIPTION:
URL:https://noosalandcare.org/event/workingbee-14-07-24/
LOCATION:Kin Kin
END:VEVENT
BEGIN:VEVENT
DTSTART;TZID=Australia/Brisbane:20240615T090000
DTEND;TZID=Australia/Brisbane:20240615T120000
DTSTAMP:20260422T033616
CREATED:20240104T021251Z
LAST-MODIFIED:20240510T003617Z
UID:3720-1718442000-1718452800@noosalandcare.org
SUMMARY:Eucalyptus I.D. with Marc Russell and Phil Moran
DESCRIPTION:
URL:https://noosalandcare.org/event/eucalyptusid/
LOCATION:Cooroora Mountain Park\, Jampot Creek Rd\, Pomona
END:VEVENT
BEGIN:VEVENT
DTSTART;TZID=Australia/Brisbane:20240620T170000
DTEND;TZID=Australia/Brisbane:20240620T190000
DTSTAMP:20260422T033616
CREATED:20240422T053708Z
LAST-MODIFIED:20240422T053805Z
UID:4323-1718902800-1718910000@noosalandcare.org
SUMMARY:Landcare Linkup: Unveiling the mystery of our local Bull Sharks
DESCRIPTION:
URL:https://noosalandcare.org/event/landcare-linkup-landcare-linkup-unveiling-the-mystery-of-our-local-bull-sharks/
END:VEVENT
BEGIN:VEVENT
DTSTART;TZID=Australia/Brisbane:20240628T083000
DTEND;TZID=Australia/Brisbane:20240628T233000
DTSTAMP:20260422T033616
CREATED:20240503T030728Z
LAST-MODIFIED:20240503T030728Z
UID:4358-1719563400-1719617400@noosalandcare.org
SUMMARY:Roving Restorers - Noosa Chapter - Working Bee
DESCRIPTION:
URL:https://noosalandcare.org/event/workingbee-28-06-24/
LOCATION:Cooran
END:VEVENT
END:VCALENDAR