BEGIN:VCALENDAR
VERSION:2.0
PRODID:-//Noosa Landcare - ECPv6.15.20//NONSGML v1.0//EN
CALSCALE:GREGORIAN
METHOD:PUBLISH
X-WR-CALNAME:Noosa Landcare
X-ORIGINAL-URL:https://noosalandcare.org
X-WR-CALDESC:Events for Noosa Landcare
REFRESH-INTERVAL;VALUE=DURATION:PT1H
X-Robots-Tag:noindex
X-PUBLISHED-TTL:PT1H
BEGIN:VTIMEZONE
TZID:Australia/Brisbane
BEGIN:STANDARD
TZOFFSETFROM:+1000
TZOFFSETTO:+1000
TZNAME:AEST
DTSTART:20230101T000000
END:STANDARD
END:VTIMEZONE
BEGIN:VEVENT
DTSTART;TZID=Australia/Brisbane:20240412T083000
DTEND;TZID=Australia/Brisbane:20240412T113000
DTSTAMP:20260422T060056
CREATED:20240213T034138Z
LAST-MODIFIED:20240405T051259Z
UID:4118-1712910600-1712921400@noosalandcare.org
SUMMARY:Roving Restorers Program - Noosa Chapter - Working Bee
DESCRIPTION:
URL:https://noosalandcare.org/event/roving-restorers-program-noosa-chapter-working-bee-3/
END:VEVENT
BEGIN:VEVENT
DTSTART;TZID=Australia/Brisbane:20240418T170000
DTEND;TZID=Australia/Brisbane:20240418T190000
DTSTAMP:20260422T060056
CREATED:20240213T034520Z
LAST-MODIFIED:20240213T034520Z
UID:4122-1713459600-1713466800@noosalandcare.org
SUMMARY:Landcare Linkup: Diurnal Raptors of the Sunshine Coast
DESCRIPTION:
URL:https://noosalandcare.org/event/landcare-linkup-diurnal-raptors-of-the-sunshine-coast/
LOCATION:Rural Futures Centre\, Pomona\, 65 Pavilion Street\, Pomona
END:VEVENT
BEGIN:VEVENT
DTSTART;TZID=Australia/Brisbane:20240419T083000
DTEND;TZID=Australia/Brisbane:20240419T113000
DTSTAMP:20260422T060056
CREATED:20240213T034314Z
LAST-MODIFIED:20240405T051451Z
UID:4120-1713515400-1713526200@noosalandcare.org
SUMMARY:Roving Restorers Program - Noosa Chapter - Working Bee
DESCRIPTION:
URL:https://noosalandcare.org/event/rovingrestorers_19-04-24/
END:VEVENT
END:VCALENDAR