BEGIN:VCALENDAR
VERSION:2.0
PRODID:-//Noosa Landcare - ECPv6.15.20//NONSGML v1.0//EN
CALSCALE:GREGORIAN
METHOD:PUBLISH
X-WR-CALNAME:Noosa Landcare
X-ORIGINAL-URL:https://noosalandcare.org
X-WR-CALDESC:Events for Noosa Landcare
REFRESH-INTERVAL;VALUE=DURATION:PT1H
X-Robots-Tag:noindex
X-PUBLISHED-TTL:PT1H
BEGIN:VTIMEZONE
TZID:Australia/Brisbane
BEGIN:STANDARD
TZOFFSETFROM:+1000
TZOFFSETTO:+1000
TZNAME:AEST
DTSTART:20230101T000000
END:STANDARD
END:VTIMEZONE
BEGIN:VEVENT
DTSTART;TZID=Australia/Brisbane:20240208T163000
DTEND;TZID=Australia/Brisbane:20240208T163000
DTSTAMP:20260422T082132
CREATED:20240114T225134Z
LAST-MODIFIED:20240114T225321Z
UID:3889-1707409800-1707409800@noosalandcare.org
SUMMARY:Hop into your creek - Water quality\, riparian health and frog workshop
DESCRIPTION:
URL:https://noosalandcare.org/event/hop_into_your_creek/
LOCATION:Cooroora Creek Park\, Pomona
END:VEVENT
BEGIN:VEVENT
DTSTART;TZID=Australia/Brisbane:20240215T170000
DTEND;TZID=Australia/Brisbane:20240215T190000
DTSTAMP:20260422T082132
CREATED:20240205T020132Z
LAST-MODIFIED:20240205T020250Z
UID:3996-1708016400-1708023600@noosalandcare.org
SUMMARY:Landcare Linkup: Bush Tucker with Nooks and Cooks
DESCRIPTION:
URL:https://noosalandcare.org/event/landcare-linkup-landcare-linkup-bush-tucker-with-nooks-and-cooks/
LOCATION:Rural Futures Centre\, Pomona\, 65 Pavilion Street\, Pomona
END:VEVENT
BEGIN:VEVENT
DTSTART;TZID=Australia/Brisbane:20240223T083000
DTEND;TZID=Australia/Brisbane:20240223T113000
DTSTAMP:20260422T082132
CREATED:20240213T033248Z
LAST-MODIFIED:20240213T033313Z
UID:4105-1708677000-1708687800@noosalandcare.org
SUMMARY:Roving Restorers Program - Noosa Chapter  - Working Bee
DESCRIPTION:
URL:https://noosalandcare.org/event/roving-restorers-program-noosa-chapter-friday-23rd-february/
LOCATION:Cootharaba
END:VEVENT
END:VCALENDAR