BEGIN:VCALENDAR
VERSION:2.0
PRODID:-//Noosa Landcare - ECPv6.15.20//NONSGML v1.0//EN
CALSCALE:GREGORIAN
METHOD:PUBLISH
X-WR-CALNAME:Noosa Landcare
X-ORIGINAL-URL:https://noosalandcare.org
X-WR-CALDESC:Events for Noosa Landcare
REFRESH-INTERVAL;VALUE=DURATION:PT1H
X-Robots-Tag:noindex
X-PUBLISHED-TTL:PT1H
BEGIN:VTIMEZONE
TZID:Australia/Brisbane
BEGIN:STANDARD
TZOFFSETFROM:+1000
TZOFFSETTO:+1000
TZNAME:AEST
DTSTART:20230101T000000
END:STANDARD
END:VTIMEZONE
BEGIN:VEVENT
DTSTART;TZID=Australia/Brisbane:20250620T083000
DTEND;TZID=Australia/Brisbane:20250620T113000
DTSTAMP:20260421T143340
CREATED:20250606T041953Z
LAST-MODIFIED:20250606T041953Z
UID:5755-1750408200-1750419000@noosalandcare.org
SUMMARY:Roving Restorers Working Bee
DESCRIPTION:
URL:https://noosalandcare.org/event/roving-restorers-working-bee/
LOCATION:Black Mountain
CATEGORIES:Community,Habitat restoration,Land for Wildlife,Land Restoration,Local projects,Native plant identification,Noosa Landcare Program,Restoration,Roving Restorers Program,Working bee
ORGANIZER;CN="Noosa and District Landcare":MAILTO:office@noosalandcare.org
END:VEVENT
BEGIN:VEVENT
DTSTART;TZID=Australia/Brisbane:20250619T170000
DTEND;TZID=Australia/Brisbane:20250619T190000
DTSTAMP:20260421T143340
CREATED:20250410T003120Z
LAST-MODIFIED:20250410T003120Z
UID:5611-1750352400-1750359600@noosalandcare.org
SUMMARY:Landcare Linkup: Birds of Noosa- Residents and Rarities
DESCRIPTION:
URL:https://noosalandcare.org/event/junelandcarelinkup2025/
LOCATION:Rural Futures Centre\, Pomona\, 65 Pavilion Street\, Pomona
CATEGORIES:Birds,Landcare Linkup,Wildlife
ORGANIZER;CN="Noosa and District Landcare":MAILTO:office@noosalandcare.org
END:VEVENT
BEGIN:VEVENT
DTSTART;TZID=Australia/Brisbane:20250613T083000
DTEND;TZID=Australia/Brisbane:20250613T113000
DTSTAMP:20260421T143340
CREATED:20250529T015834Z
LAST-MODIFIED:20250612T033252Z
UID:5732-1749803400-1749814200@noosalandcare.org
SUMMARY:Roving Restorers Working Bee
DESCRIPTION:
URL:https://noosalandcare.org/event/roving-restorers-working-bee-13-6-25/
LOCATION:Cootharaba
CATEGORIES:Community,Habitat restoration,Land for Wildlife,Land Restoration,Local projects,Noosa Landcare Program,Restoration,Roving Restorers Program,Working bee
ORGANIZER;CN="Noosa and District Landcare":MAILTO:office@noosalandcare.org
END:VEVENT
BEGIN:VEVENT
DTSTART;TZID=Australia/Brisbane:20250612T090000
DTEND;TZID=Australia/Brisbane:20250612T110000
DTSTAMP:20260421T143340
CREATED:20250422T031718Z
LAST-MODIFIED:20250521T215718Z
UID:5621-1749718800-1749726000@noosalandcare.org
SUMMARY:Madeira Vine control demonstration and info morning
DESCRIPTION:
URL:https://noosalandcare.org/event/madeira-vine-control-demonstration-and-info-morning/
LOCATION:Kin Kin
CATEGORIES:Botany,Garden Clinic,Habitat restoration,Land Restoration,Local projects,Native gardening,Noosa Landcare Program,Plant identification,Restoration
ORGANIZER;CN="Noosa and District Landcare":MAILTO:office@noosalandcare.org
END:VEVENT
BEGIN:VEVENT
DTSTART;TZID=Australia/Brisbane:20250606T083000
DTEND;TZID=Australia/Brisbane:20250606T113000
DTSTAMP:20260421T143340
CREATED:20250529T015037Z
LAST-MODIFIED:20250529T015037Z
UID:5727-1749198600-1749209400@noosalandcare.org
SUMMARY:Roving Restorers Working Bee
DESCRIPTION:
URL:https://noosalandcare.org/event/roving-restorers-working-bee-6-6-25/
LOCATION:Ridgewood
CATEGORIES:Community,Habitat restoration,Land for Wildlife,Land Restoration,Local projects,Native gardening,Restoration,Roving Restorers Program,Working bee
ORGANIZER;CN="Noosa and District Landcare":MAILTO:office@noosalandcare.org
END:VEVENT
BEGIN:VEVENT
DTSTART;TZID=Australia/Brisbane:20250605T090000
DTEND;TZID=Australia/Brisbane:20250605T113000
DTSTAMP:20260421T143340
CREATED:20250508T043103Z
LAST-MODIFIED:20250529T003415Z
UID:5676-1749114000-1749123000@noosalandcare.org
SUMMARY:Saving Soil Community Planting - Keeping it in Kin Kin
DESCRIPTION:
URL:https://noosalandcare.org/event/saving-soil-community-planting-keeping-it-in-kin-kin/
LOCATION:Kin Kin
CATEGORIES:Climate resilience,Community,Habitat restoration,Land for Wildlife,Land Restoration,Local projects,Marine ecology,Mary River,Noosa Landcare Program,Restoration,Water,Working bee
ORGANIZER;CN="Noosa and District Landcare":MAILTO:office@noosalandcare.org
END:VEVENT
BEGIN:VEVENT
DTSTART;TZID=Australia/Brisbane:20250530T083000
DTEND;TZID=Australia/Brisbane:20250530T113000
DTSTAMP:20260421T143340
CREATED:20250501T062323Z
LAST-MODIFIED:20250501T063101Z
UID:5657-1748593800-1748604600@noosalandcare.org
SUMMARY:Roving Restorers Working Bee
DESCRIPTION:
URL:https://noosalandcare.org/event/roving-restorers-working-bee-30-5-25/
LOCATION:Cudgeri Estate\, Black Mountain\, Australia
CATEGORIES:Community,Habitat restoration,Land for Wildlife,Land Restoration,Local projects,Noosa Landcare Program,Roving Restorers Program,Working bee
ORGANIZER;CN="Noosa and District Landcare":MAILTO:office@noosalandcare.org
END:VEVENT
BEGIN:VEVENT
DTSTART;TZID=Australia/Brisbane:20250523T083000
DTEND;TZID=Australia/Brisbane:20250523T113000
DTSTAMP:20260421T143340
CREATED:20250520T214630Z
LAST-MODIFIED:20250522T010756Z
UID:5696-1747989000-1747999800@noosalandcare.org
SUMMARY:Roving Restorers Working Bee
DESCRIPTION:
URL:https://noosalandcare.org/event/roving-restorers-working-bee-23-5-25/
LOCATION:Kin Kin
CATEGORIES:Community,Habitat restoration,Land for Wildlife,Land Restoration,Local projects,Noosa Landcare Program,Roving Restorers Program,Working bee
ORGANIZER;CN="Noosa and District Landcare":MAILTO:office@noosalandcare.org
END:VEVENT
BEGIN:VEVENT
DTSTART;TZID=Australia/Brisbane:20250516T083000
DTEND;TZID=Australia/Brisbane:20250516T113000
DTSTAMP:20260421T143340
CREATED:20250501T062125Z
LAST-MODIFIED:20250501T062907Z
UID:5654-1747384200-1747395000@noosalandcare.org
SUMMARY:Roving Restorers Working Bee
DESCRIPTION:
URL:https://noosalandcare.org/event/roving-restorers-working-bee-16-5-25/
LOCATION:Federal
CATEGORIES:Community,Habitat restoration,Land for Wildlife,Land Restoration,Local projects,Noosa Landcare Program,Roving Restorers Program,Working bee
ORGANIZER;CN="Noosa and District Landcare":MAILTO:office@noosalandcare.org
END:VEVENT
BEGIN:VEVENT
DTSTART;TZID=Australia/Brisbane:20250515T170000
DTEND;TZID=Australia/Brisbane:20250515T190000
DTSTAMP:20260421T143340
CREATED:20250410T002632Z
LAST-MODIFIED:20250410T002632Z
UID:5608-1747328400-1747335600@noosalandcare.org
SUMMARY:Landcare Linkup: Native Garden Tips and Tricks
DESCRIPTION:
URL:https://noosalandcare.org/event/maylandcarelinkup/
LOCATION:Rural Futures Centre\, Pomona\, 65 Pavilion Street\, Pomona
CATEGORIES:Community,Garden Clinic,Garden design,Land for Wildlife,Landcare Linkup,Native gardening
ORGANIZER;CN="Noosa and District Landcare":MAILTO:office@noosalandcare.org
END:VEVENT
BEGIN:VEVENT
DTSTART;TZID=Australia/Brisbane:20250509T083000
DTEND;TZID=Australia/Brisbane:20250509T113000
DTSTAMP:20260421T143340
CREATED:20250501T061906Z
LAST-MODIFIED:20250502T041042Z
UID:5651-1746779400-1746790200@noosalandcare.org
SUMMARY:Roving Restorers Working Bee
DESCRIPTION:
URL:https://noosalandcare.org/event/roving-restorers-working-bee-9-5-25/
LOCATION:Kin Kin
CATEGORIES:Community,Land for Wildlife,Land Restoration,Local projects,Noosa Landcare Program,Roving Restorers Program,Working bee
ORGANIZER;CN="Noosa and District Landcare":MAILTO:office@noosalandcare.org
END:VEVENT
BEGIN:VEVENT
DTSTART;TZID=Australia/Brisbane:20250502T083000
DTEND;TZID=Australia/Brisbane:20250502T113000
DTSTAMP:20260421T143340
CREATED:20250424T052153Z
LAST-MODIFIED:20250501T062734Z
UID:5637-1746174600-1746185400@noosalandcare.org
SUMMARY:Roving Restorers Working Bee
DESCRIPTION:
URL:https://noosalandcare.org/event/roving-restorers-working-bee-2-5-25/
LOCATION:Kin Kin
CATEGORIES:Community,Land for Wildlife,Land Restoration,Local projects,Noosa Landcare Program,Roving Restorers Program,Working bee
ORGANIZER;CN="Noosa and District Landcare":MAILTO:office@noosalandcare.org
END:VEVENT
BEGIN:VEVENT
DTSTART;TZID=Australia/Brisbane:20250418T083000
DTEND;TZID=Australia/Brisbane:20250418T113000
DTSTAMP:20260421T143340
CREATED:20250320T030540Z
LAST-MODIFIED:20250731T060433Z
UID:5564-1744965000-1744975800@noosalandcare.org
SUMMARY:Roving Restorers Working Bee
DESCRIPTION:
URL:https://noosalandcare.org/event/working-bee-18-4-25/
LOCATION:Black Mountain
END:VEVENT
BEGIN:VEVENT
DTSTART;TZID=Australia/Brisbane:20250417T170000
DTEND;TZID=Australia/Brisbane:20250417T183000
DTSTAMP:20260421T143340
CREATED:20241219T215148Z
LAST-MODIFIED:20250320T022821Z
UID:5023-1744909200-1744914600@noosalandcare.org
SUMMARY:April Landcare Linkup: Climate Resilient Landscapes
DESCRIPTION:
URL:https://noosalandcare.org/event/april_landcarelinkup_2025/
LOCATION:Rural Futures Centre\, Pomona\, 65 Pavilion Street\, Pomona
CATEGORIES:Climate resilience,Community,Garden design,Land Restoration,Landcare Linkup,Landscape design
ORGANIZER;CN="Noosa and District Landcare":MAILTO:office@noosalandcare.org
END:VEVENT
BEGIN:VEVENT
DTSTART;TZID=Australia/Brisbane:20250411T083000
DTEND;TZID=Australia/Brisbane:20250411T113000
DTSTAMP:20260421T143340
CREATED:20250402T004118Z
LAST-MODIFIED:20250402T004118Z
UID:5584-1744360200-1744371000@noosalandcare.org
SUMMARY:Roving Restorers Working Bee
DESCRIPTION:
URL:https://noosalandcare.org/event/working-bee-11-4-25/
LOCATION:Lake Macdonald
CATEGORIES:Community,Habitat restoration,Land for Wildlife,Land Restoration,Noosa Landcare Program,Roving Restorers Program,Working bee
ORGANIZER;CN="Noosa and District Landcare":MAILTO:office@noosalandcare.org
END:VEVENT
BEGIN:VEVENT
DTSTART;TZID=Australia/Brisbane:20250404T083000
DTEND;TZID=Australia/Brisbane:20250404T113000
DTSTAMP:20260421T143340
CREATED:20250108T222901Z
LAST-MODIFIED:20250108T222901Z
UID:5099-1743755400-1743766200@noosalandcare.org
SUMMARY:Roving Restorers Working Bee
DESCRIPTION:
URL:https://noosalandcare.org/event/working-bee-4-4-2025/
LOCATION:Happy Jack Creek
ORGANIZER;CN="Noosa and District Landcare":MAILTO:office@noosalandcare.org
END:VEVENT
BEGIN:VEVENT
DTSTART;TZID=Australia/Brisbane:20250321T083000
DTEND;TZID=Australia/Brisbane:20250321T113000
DTSTAMP:20260421T143340
CREATED:20241220T055723Z
LAST-MODIFIED:20250108T222537Z
UID:5071-1742545800-1742556600@noosalandcare.org
SUMMARY:Roving Restorers Working Bee
DESCRIPTION:
URL:https://noosalandcare.org/event/rovingrestorers_21-3-25/
LOCATION:Pinbarren
CATEGORIES:Community,Habitat restoration,Land for Wildlife,Land Restoration,Local projects,Noosa Landcare Program,Restoration,Roving Restorers Program,Working bee
ORGANIZER;CN="Noosa and District Landcare":MAILTO:office@noosalandcare.org
END:VEVENT
BEGIN:VEVENT
DTSTART;TZID=Australia/Brisbane:20250320T170000
DTEND;TZID=Australia/Brisbane:20250320T183000
DTSTAMP:20260421T143340
CREATED:20241219T214631Z
LAST-MODIFIED:20250115T232001Z
UID:5020-1742490000-1742495400@noosalandcare.org
SUMMARY:Landcare Linkup: Cod Habitat Enhancement in the Mary River
DESCRIPTION:
URL:https://noosalandcare.org/event/march_landcarelinkup_2025/
LOCATION:Rural Futures Centre\, Pomona\, 65 Pavilion Street\, Pomona
CATEGORIES:Habitat restoration,Land for Wildlife,Landcare Linkup,Mary River,Restoration,River Restoration,Threatened species,Water
ORGANIZER;CN="Noosa and District Landcare":MAILTO:office@noosalandcare.org
END:VEVENT
BEGIN:VEVENT
DTSTART;TZID=Australia/Brisbane:20250307T083000
DTEND;TZID=Australia/Brisbane:20250307T113000
DTSTAMP:20260421T143340
CREATED:20241220T055522Z
LAST-MODIFIED:20250108T222332Z
UID:5067-1741336200-1741347000@noosalandcare.org
SUMMARY:Roving Restorers Working Bee
DESCRIPTION:
URL:https://noosalandcare.org/event/rovingrestorers_7-3-25/
LOCATION:Federal
CATEGORIES:Community,Land for Wildlife,Land Restoration,Noosa Landcare Program,Restoration,Roving Restorers Program,Working bee
ORGANIZER;CN="Noosa and District Landcare":MAILTO:office@noosalandcare.org
END:VEVENT
BEGIN:VEVENT
DTSTART;TZID=Australia/Brisbane:20250228T083000
DTEND;TZID=Australia/Brisbane:20250228T233000
DTSTAMP:20260421T143340
CREATED:20241220T061214Z
LAST-MODIFIED:20241220T061249Z
UID:5081-1740731400-1740785400@noosalandcare.org
SUMMARY:No Roving Restorers Working Bee. On pause for the summer months.
DESCRIPTION:
URL:https://noosalandcare.org/event/roving-restorers-28-2-25/
CATEGORIES:Working bee
END:VEVENT
BEGIN:VEVENT
DTSTART;TZID=Australia/Brisbane:20250220T170000
DTEND;TZID=Australia/Brisbane:20250220T183000
DTSTAMP:20260421T143340
CREATED:20241219T234759Z
LAST-MODIFIED:20250107T051307Z
UID:5025-1740070800-1740076200@noosalandcare.org
SUMMARY:February Landcare Linkup: Dolphin Research in South-East Queensland
DESCRIPTION:Save the Date! \nFlyer to come soon.
URL:https://noosalandcare.org/event/feb_landcarelinkup_2025/
LOCATION:Rural Futures Centre\, Pomona\, 65 Pavilion Street\, Pomona
CATEGORIES:Landcare Linkup,Local projects,Research
ORGANIZER;CN="Noosa and District Landcare":MAILTO:office@noosalandcare.org
END:VEVENT
BEGIN:VEVENT
DTSTART;TZID=Australia/Brisbane:20250214T080000
DTEND;TZID=Australia/Brisbane:20250214T170000
DTSTAMP:20260421T143340
CREATED:20241220T060922Z
LAST-MODIFIED:20241220T061232Z
UID:5079-1739520000-1739552400@noosalandcare.org
SUMMARY:No Roving Restorers Working Bee. On pause for the summer months.
DESCRIPTION:
URL:https://noosalandcare.org/event/restorers-working-14-2-25/
CATEGORIES:Working bee
END:VEVENT
BEGIN:VEVENT
DTSTART;TZID=Australia/Brisbane:20250131T083000
DTEND;TZID=Australia/Brisbane:20250131T113000
DTSTAMP:20260421T143340
CREATED:20241220T060255Z
LAST-MODIFIED:20241220T060619Z
UID:5077-1738312200-1738323000@noosalandcare.org
SUMMARY:No Roving Restorers Working Bee. On pause for the summer months.
DESCRIPTION:
URL:https://noosalandcare.org/event/roving-restorers-31-1-25/
CATEGORIES:Working bee
END:VEVENT
BEGIN:VEVENT
DTSTART;TZID=Australia/Brisbane:20250117T083000
DTEND;TZID=Australia/Brisbane:20250117T113000
DTSTAMP:20260421T143340
CREATED:20241220T060001Z
LAST-MODIFIED:20241220T060517Z
UID:5075-1737102600-1737113400@noosalandcare.org
SUMMARY:No Roving Restorers Working Bee. On pause for the summer months.
DESCRIPTION:
URL:https://noosalandcare.org/event/roving-restorers-17-2-25/
CATEGORIES:Working bee
END:VEVENT
BEGIN:VEVENT
DTSTART;TZID=Australia/Brisbane:20250103T083000
DTEND;TZID=Australia/Brisbane:20250103T113000
DTSTAMP:20260421T143340
CREATED:20241220T055902Z
LAST-MODIFIED:20241220T060430Z
UID:5073-1735893000-1735903800@noosalandcare.org
SUMMARY:No Roving Restorers Working Bee. On pause for the summer months.
DESCRIPTION:
URL:https://noosalandcare.org/event/roving-restorers-1-3-25/
CATEGORIES:Working bee
END:VEVENT
BEGIN:VEVENT
DTSTART;TZID=Australia/Brisbane:20241220T083000
DTEND;TZID=Australia/Brisbane:20241220T113000
DTSTAMP:20260421T143340
CREATED:20241121T080328Z
LAST-MODIFIED:20241121T080328Z
UID:5007-1734683400-1734694200@noosalandcare.org
SUMMARY:Roving Restorers working bee
DESCRIPTION:
URL:https://noosalandcare.org/event/working-bee_20-12-24/
LOCATION:Marcus Beach
END:VEVENT
BEGIN:VEVENT
DTSTART;TZID=Australia/Brisbane:20241206T083000
DTEND;TZID=Australia/Brisbane:20241206T113000
DTSTAMP:20260421T143340
CREATED:20241121T075828Z
LAST-MODIFIED:20241121T075828Z
UID:5002-1733473800-1733484600@noosalandcare.org
SUMMARY:Roving Restorers Program working bee
DESCRIPTION:
URL:https://noosalandcare.org/event/working-bee_6-12-24/
LOCATION:Cooroy
CATEGORIES:Community,Noosa Landcare Program,Plant identification,Restoration,Roving Restorers Program,Working bee
END:VEVENT
BEGIN:VEVENT
DTSTART;TZID=Australia/Brisbane:20241122T083000
DTEND;TZID=Australia/Brisbane:20241122T113000
DTSTAMP:20260421T143340
CREATED:20240926T024844Z
LAST-MODIFIED:20240926T024844Z
UID:4909-1732264200-1732275000@noosalandcare.org
SUMMARY:Roving Restorers Program working bee
DESCRIPTION:
URL:https://noosalandcare.org/event/workingbee_11-11-24/
LOCATION:Kin Kin
CATEGORIES:Land for Wildlife,Noosa Landcare Program,Roving Restorers Program,Working bee
END:VEVENT
BEGIN:VEVENT
DTSTART;TZID=Australia/Brisbane:20241121T170000
DTEND;TZID=Australia/Brisbane:20241121T183000
DTSTAMP:20260421T143340
CREATED:20240704T012808Z
LAST-MODIFIED:20241003T000411Z
UID:4665-1732208400-1732213800@noosalandcare.org
SUMMARY:Landcare Linkup: Vines - vile or valuable?
DESCRIPTION:
URL:https://noosalandcare.org/event/november_landcarelinkup_2024/
LOCATION:Rural Futures Centre\, Pomona\, 65 Pavilion Street\, Pomona
CATEGORIES:Botany,Community,Landcare Linkup,Native gardening,Native plant identification,Plant identification
ORGANIZER;CN="Noosa and District Landcare":MAILTO:office@noosalandcare.org
END:VEVENT
BEGIN:VEVENT
DTSTART;TZID=Australia/Brisbane:20241031T170000
DTEND;TZID=Australia/Brisbane:20241031T190000
DTSTAMP:20260421T143341
CREATED:20240704T012500Z
LAST-MODIFIED:20241016T224757Z
UID:4663-1730394000-1730401200@noosalandcare.org
SUMMARY:Landcare Linkup: What's happening on the Mary
DESCRIPTION:
URL:https://noosalandcare.org/event/october_landcarelinkup_2024/
LOCATION:Rural Futures Centre\, Pomona\, 65 Pavilion Street\, Pomona
CATEGORIES:Community,Land Restoration,Landcare Linkup,Restoration,River Restoration,Water
END:VEVENT
END:VCALENDAR