BEGIN:VCALENDAR
VERSION:2.0
PRODID:-//Noosa Landcare - ECPv6.15.20//NONSGML v1.0//EN
CALSCALE:GREGORIAN
METHOD:PUBLISH
X-ORIGINAL-URL:https://noosalandcare.org
X-WR-CALDESC:Events for Noosa Landcare
REFRESH-INTERVAL;VALUE=DURATION:PT1H
X-Robots-Tag:noindex
X-PUBLISHED-TTL:PT1H
BEGIN:VTIMEZONE
TZID:Australia/Brisbane
BEGIN:STANDARD
TZOFFSETFROM:+1000
TZOFFSETTO:+1000
TZNAME:AEST
DTSTART:20250101T000000
END:STANDARD
END:VTIMEZONE
BEGIN:VEVENT
DTSTART;TZID=Australia/Brisbane:20260716T170000
DTEND;TZID=Australia/Brisbane:20260716T190000
DTSTAMP:20260421T073629
CREATED:20260210T035929Z
LAST-MODIFIED:20260210T035929Z
UID:9882-1784221200-1784228400@noosalandcare.org
SUMMARY:Landcare Linkup: Heathland communities as a habitat for Eastern Ground Parrots
DESCRIPTION:
URL:https://noosalandcare.org/event/july-landcare-linkup-2026/
LOCATION:Rural Futures Centre\, Pomona\, 65 Pavilion Street\, Pomona
CATEGORIES:Conservation,Landcare Linkup,Local projects,Research,Wildlife
ORGANIZER;CN="Noosa and District Landcare":MAILTO:office@noosalandcare.org
END:VEVENT
END:VCALENDAR