BEGIN:VCALENDAR
VERSION:2.0
PRODID:-//Noosa Landcare - ECPv6.15.20//NONSGML v1.0//EN
CALSCALE:GREGORIAN
METHOD:PUBLISH
X-WR-CALNAME:Noosa Landcare
X-ORIGINAL-URL:https://noosalandcare.org
X-WR-CALDESC:Events for Noosa Landcare
REFRESH-INTERVAL;VALUE=DURATION:PT1H
X-Robots-Tag:noindex
X-PUBLISHED-TTL:PT1H
BEGIN:VTIMEZONE
TZID:Australia/Brisbane
BEGIN:STANDARD
TZOFFSETFROM:+1000
TZOFFSETTO:+1000
TZNAME:AEST
DTSTART:20240101T000000
END:STANDARD
END:VTIMEZONE
BEGIN:VEVENT
DTSTART;TZID=Australia/Brisbane:20250802T090000
DTEND;TZID=Australia/Brisbane:20250802T120000
DTSTAMP:20260421T205418
CREATED:20250522T020021Z
LAST-MODIFIED:20250522T020021Z
UID:5702-1754125200-1754136000@noosalandcare.org
SUMMARY:Eucalyptus ID Workshop
DESCRIPTION:
URL:https://noosalandcare.org/event/eucalyptus-id-workshop/
LOCATION:Cooroora Mountain Park\, Jampot Creek Rd\, Pomona
CATEGORIES:Botany,Habitat restoration,Native plant identification,Noosa Landcare Program,Plant identification,Restoration
ORGANIZER;CN="Noosa and District Landcare":MAILTO:office@noosalandcare.org
END:VEVENT
BEGIN:VEVENT
DTSTART;TZID=Australia/Brisbane:20250815T083000
DTEND;TZID=Australia/Brisbane:20250815T113000
DTSTAMP:20260421T205418
CREATED:20250724T050406Z
LAST-MODIFIED:20250724T050519Z
UID:6098-1755246600-1755257400@noosalandcare.org
SUMMARY:Roving Restorers Working Bee
DESCRIPTION:
URL:https://noosalandcare.org/event/roving-restorers-working-bee-5/
LOCATION:Cooran
CATEGORIES:Community,Habitat restoration,Land for Wildlife,Land Restoration,Local projects,Native plant identification,Noosa Landcare Program,Plant identification,Restoration,Roving Restorers Program,Working bee
ORGANIZER;CN="Noosa and District Landcare":MAILTO:office@noosalandcare.org
END:VEVENT
BEGIN:VEVENT
DTSTART;TZID=Australia/Brisbane:20250820T103000
DTEND;TZID=Australia/Brisbane:20250820T150000
DTSTAMP:20260421T205418
CREATED:20250807T032036Z
LAST-MODIFIED:20250807T032036Z
UID:6117-1755685800-1755702000@noosalandcare.org
SUMMARY:QTPN Flora Survey Training Workshop
DESCRIPTION:
URL:https://noosalandcare.org/event/qtpn-flora-survey-training-workshop/
LOCATION:Rural Futures Centre\, Pomona\, 65 Pavilion Street\, Pomona
CATEGORIES:Botany,Native plant identification,Plant identification,Threatened species
ORGANIZER;CN="Noosa and District Landcare":MAILTO:office@noosalandcare.org
END:VEVENT
BEGIN:VEVENT
DTSTART;TZID=Australia/Brisbane:20250827T090000
DTEND;TZID=Australia/Brisbane:20250827T110000
DTSTAMP:20260421T205418
CREATED:20250702T213247Z
LAST-MODIFIED:20250731T055816Z
UID:5814-1756285200-1756292400@noosalandcare.org
SUMMARY:***BOOKED OUT!*** Wildflower Walk in Noosaville - Sunshine Coast Wildflower Festival 2025
DESCRIPTION:
URL:https://noosalandcare.org/event/wildflower-walk/
LOCATION:Noosaville
CATEGORIES:Botany,Community,Native plant identification,Plant identification,Threatened species
ORGANIZER;CN="Noosa and District Landcare":MAILTO:office@noosalandcare.org
END:VEVENT
END:VCALENDAR