BEGIN:VCALENDAR
VERSION:2.0
PRODID:-//Noosa Landcare - ECPv6.15.20//NONSGML v1.0//EN
CALSCALE:GREGORIAN
METHOD:PUBLISH
X-ORIGINAL-URL:https://noosalandcare.org
X-WR-CALDESC:Events for Noosa Landcare
REFRESH-INTERVAL;VALUE=DURATION:PT1H
X-Robots-Tag:noindex
X-PUBLISHED-TTL:PT1H
BEGIN:VTIMEZONE
TZID:Australia/Brisbane
BEGIN:STANDARD
TZOFFSETFROM:+1000
TZOFFSETTO:+1000
TZNAME:AEST
DTSTART:20240101T000000
END:STANDARD
END:VTIMEZONE
BEGIN:VEVENT
DTSTART;TZID=Australia/Brisbane:20250712T090000
DTEND;TZID=Australia/Brisbane:20250712T143000
DTSTAMP:20260421T220048
CREATED:20250521T220213Z
LAST-MODIFIED:20250521T220213Z
UID:5699-1752310800-1752330600@noosalandcare.org
SUMMARY:Rainforest Plants ID Workshop
DESCRIPTION:
URL:https://noosalandcare.org/event/rainforest-plants-id-workshop/
LOCATION:Rural Futures Centre\, Pomona\, 65 Pavilion Street\, Pomona
CATEGORIES:Botany,Native plant identification,Noosa Landcare Program,Plant identification
ORGANIZER;CN="Noosa and District Landcare":MAILTO:office@noosalandcare.org
END:VEVENT
BEGIN:VEVENT
DTSTART;TZID=Australia/Brisbane:20250718T083000
DTEND;TZID=Australia/Brisbane:20250718T113000
DTSTAMP:20260421T220048
CREATED:20250704T040944Z
LAST-MODIFIED:20250704T041049Z
UID:5954-1752827400-1752838200@noosalandcare.org
SUMMARY:Roving Restorers Working Bee
DESCRIPTION:
URL:https://noosalandcare.org/event/roving-restorers-working-bee-2/
LOCATION:Cooran
CATEGORIES:Community,Habitat restoration,Land for Wildlife,Land Restoration,Native plant identification,Noosa Landcare Program,Plant identification,Restoration,Roving Restorers Program,Working bee
ORGANIZER;CN="Noosa and District Landcare":MAILTO:office@noosalandcare.org
END:VEVENT
END:VCALENDAR