BEGIN:VCALENDAR
VERSION:2.0
PRODID:-//Noosa Landcare - ECPv6.15.20//NONSGML v1.0//EN
CALSCALE:GREGORIAN
METHOD:PUBLISH
X-ORIGINAL-URL:https://noosalandcare.org
X-WR-CALDESC:Events for Noosa Landcare
REFRESH-INTERVAL;VALUE=DURATION:PT1H
X-Robots-Tag:noindex
X-PUBLISHED-TTL:PT1H
BEGIN:VTIMEZONE
TZID:Australia/Brisbane
BEGIN:STANDARD
TZOFFSETFROM:+1000
TZOFFSETTO:+1000
TZNAME:AEST
DTSTART:20240101T000000
END:STANDARD
END:VTIMEZONE
BEGIN:VEVENT
DTSTART;TZID=Australia/Brisbane:20250918T170000
DTEND;TZID=Australia/Brisbane:20250918T190000
DTSTAMP:20260423T221820
CREATED:20250904T215940Z
LAST-MODIFIED:20250904T215940Z
UID:6166-1758214800-1758222000@noosalandcare.org
SUMMARY:Landcare Linkup: Putting 'Holistic' into Regenerative Farming
DESCRIPTION:
URL:https://noosalandcare.org/event/landcare-linkup-putting-holistic-into-regenerative-farming/
LOCATION:Rural Futures Centre\, Pomona\, 65 Pavilion Street\, Pomona
CATEGORIES:Climate resilience,Land Restoration,Landcare Linkup,Landscape design,Restoration
ORGANIZER;CN="Noosa and District Landcare":MAILTO:office@noosalandcare.org
END:VEVENT
BEGIN:VEVENT
DTSTART;TZID=Australia/Brisbane:20250920T090000
DTEND;TZID=Australia/Brisbane:20250920T110000
DTSTAMP:20260423T221820
CREATED:20250914T221616Z
LAST-MODIFIED:20250914T221616Z
UID:6181-1758358800-1758366000@noosalandcare.org
SUMMARY:Verge Gardens in the Noosa Shire
DESCRIPTION:
URL:https://noosalandcare.org/event/verge-gardens-in-the-noosa-shire/
LOCATION:Station Place\, 6 Station Place\, Pomona\, Queensland\, 4568\, Australia
CATEGORIES:Botany,Community,Garden Clinic,Garden design,Landscape design,Local projects,Native gardening,Noosa Landcare Program
ORGANIZER;CN="Noosa and District Landcare":MAILTO:office@noosalandcare.org
END:VEVENT
END:VCALENDAR