BEGIN:VCALENDAR
VERSION:2.0
PRODID:-//Noosa Landcare - ECPv6.15.20//NONSGML v1.0//EN
CALSCALE:GREGORIAN
METHOD:PUBLISH
X-ORIGINAL-URL:https://noosalandcare.org
X-WR-CALDESC:Events for Noosa Landcare
REFRESH-INTERVAL;VALUE=DURATION:PT1H
X-Robots-Tag:noindex
X-PUBLISHED-TTL:PT1H
BEGIN:VTIMEZONE
TZID:Australia/Brisbane
BEGIN:STANDARD
TZOFFSETFROM:+1000
TZOFFSETTO:+1000
TZNAME:AEST
DTSTART:20240101T000000
END:STANDARD
END:VTIMEZONE
BEGIN:VEVENT
DTSTART;TZID=Australia/Brisbane:20251114T170000
DTEND;TZID=Australia/Brisbane:20251114T190000
DTSTAMP:20260422T101643
CREATED:20251016T023833Z
LAST-MODIFIED:20251016T024027Z
UID:6196-1763139600-1763146800@noosalandcare.org
SUMMARY:Landcare Linkup: Citizen science platforms and what they mean for threatened plants
DESCRIPTION:
URL:https://noosalandcare.org/event/landcare-linkup-nov25/
LOCATION:Rural Futures Centre\, Pomona\, 65 Pavilion Street\, Pomona
CATEGORIES:Botany,Landcare Linkup,Threatened species
ORGANIZER;CN="Noosa and District Landcare":MAILTO:office@noosalandcare.org
END:VEVENT
BEGIN:VEVENT
DTSTART;TZID=Australia/Brisbane:20260205T170000
DTEND;TZID=Australia/Brisbane:20260205T190000
DTSTAMP:20260422T101643
CREATED:20260116T003810Z
LAST-MODIFIED:20260123T031809Z
UID:9327-1770310800-1770318000@noosalandcare.org
SUMMARY:Landcare Linkup: Tracking the Platypus - Citizen Science in Action
DESCRIPTION:
URL:https://noosalandcare.org/event/landcarelinkup-feb2026/
LOCATION:Rural Futures Centre\, Pomona\, 65 Pavilion Street\, Pomona
CATEGORIES:Community,Conservation,Landcare Linkup,Local projects,Research,Wildlife
ORGANIZER;CN="Noosa and District Landcare":MAILTO:office@noosalandcare.org
END:VEVENT
BEGIN:VEVENT
DTSTART;TZID=Australia/Brisbane:20260521T170000
DTEND;TZID=Australia/Brisbane:20260521T190000
DTSTAMP:20260422T101643
CREATED:20260123T020037Z
LAST-MODIFIED:20260123T031650Z
UID:9604-1779382800-1779390000@noosalandcare.org
SUMMARY:Landcare Linkup: The conservation of the diverse and distinctive flora of the Sunshine Coast Heathlands- where are we at?
DESCRIPTION:
URL:https://noosalandcare.org/event/may-landcare-linkup-2026/
LOCATION:Rural Futures Centre\, Pomona\, 65 Pavilion Street\, Pomona
CATEGORIES:Community,Conservation,Landcare Linkup
ORGANIZER;CN="Noosa and District Landcare":MAILTO:office@noosalandcare.org
END:VEVENT
BEGIN:VEVENT
DTSTART;TZID=Australia/Brisbane:20260716T170000
DTEND;TZID=Australia/Brisbane:20260716T190000
DTSTAMP:20260422T101643
CREATED:20260210T035929Z
LAST-MODIFIED:20260210T035929Z
UID:9882-1784221200-1784228400@noosalandcare.org
SUMMARY:Landcare Linkup: Heathland communities as a habitat for Eastern Ground Parrots
DESCRIPTION:
URL:https://noosalandcare.org/event/july-landcare-linkup-2026/
LOCATION:Rural Futures Centre\, Pomona\, 65 Pavilion Street\, Pomona
CATEGORIES:Conservation,Landcare Linkup,Local projects,Research,Wildlife
ORGANIZER;CN="Noosa and District Landcare":MAILTO:office@noosalandcare.org
END:VEVENT
END:VCALENDAR