BEGIN:VCALENDAR
VERSION:2.0
PRODID:-//Noosa Landcare - ECPv6.15.20//NONSGML v1.0//EN
CALSCALE:GREGORIAN
METHOD:PUBLISH
X-WR-CALNAME:Noosa Landcare
X-ORIGINAL-URL:https://noosalandcare.org
X-WR-CALDESC:Events for Noosa Landcare
REFRESH-INTERVAL;VALUE=DURATION:PT1H
X-Robots-Tag:noindex
X-PUBLISHED-TTL:PT1H
BEGIN:VTIMEZONE
TZID:Australia/Brisbane
BEGIN:STANDARD
TZOFFSETFROM:+1000
TZOFFSETTO:+1000
TZNAME:AEST
DTSTART:20250101T000000
END:STANDARD
END:VTIMEZONE
BEGIN:VEVENT
DTSTART;TZID=Australia/Brisbane:20260618T170000
DTEND;TZID=Australia/Brisbane:20260618T190000
DTSTAMP:20260421T063943
CREATED:20260213T002602Z
LAST-MODIFIED:20260213T003558Z
UID:9910-1781802000-1781809200@noosalandcare.org
SUMMARY:Landcare Linkup: Wetland Wonders - Ecology\, Species & Hidden Gems of the Noosa Region
DESCRIPTION:
URL:https://noosalandcare.org/event/landcare-linkup-june-2026/
LOCATION:Rural Futures Centre\, Pomona\, 65 Pavilion Street\, Pomona
CATEGORIES:Conservation,Ecology,Freshwater Ecology,Threatened species,Water,Wildlife
ORGANIZER;CN="Noosa and District Landcare":MAILTO:office@noosalandcare.org
END:VEVENT
END:VCALENDAR